BEGIN:VCALENDAR
VERSION:2.0
PRODID:-//Trawler-Calendar-Tool 0.2
METHOD:PUBLISH
BEGIN:VTIMEZONE
TZID:Europe/Berlin
BEGIN:STANDARD
TZNAME:CET
DTSTART:20100101T010000
RRULE:FREQ=YEARLY;BYDAY=-1SU;BYMONTH=10
TZOFFSETFROM:+0200
TZOFFSETTO:+0100
END:STANDARD
BEGIN:DAYLIGHT
TZNAME:CEST
DTSTART:20100101T010000
RRULE:FREQ=YEARLY;BYDAY=-1SU;BYMONTH=3
TZOFFSETFROM:+0100
TZOFFSETTO:+0200
END:DAYLIGHT
END:VTIMEZONE
X-WR-TIMEZONE:Europe/Berlin
X-ORIGINAL-URL:https://www.spd-hochschwarzwald.de/termine/
BEGIN:VEVENT
DTSTART;TZID=Europe/Berlin:20260501T090000
DTEND;TZID=Europe/Berlin:20260501T120000
LOCATION:Stühlinger Kirchplatz\, 79106 Freiburg
SUMMARY:DGB Kundgebung mit der AG Migration & Vielfalt
DESCRIPTION:Am 1. Mai – dem Tag der Arbeit – findet wieder die
   Kundgebung des Deutschen Gewerkschaftsbundes (DGB)
   statt.
 
 In diesem Jahr wird erstmalig nach ihrer
   Neugründung unsere AG Migration und Vielfalt Breisgau zusammen
   mit dem SPD-Kreisverband Freiburg mit einem Infostand vertreten sein.
X-ALT-DESC;FMTTYPE=text/plain:Am 1. Mai &ndash\; dem Tag der Arbeit &ndash\; findet wieder die
   Kundgebung des Deutschen&nbsp\;Gewerkschaftsbundes (DGB)
   statt.
 
 In diesem Jahr wird erstmalig nach ihrer
   Neugr&uuml\;ndung unsere AG Migration und Vielfalt&nbsp\;Breisgau zusammen
   mit dem SPD-Kreisverband Freiburg mit einem Infostand vertreten sein.
PRIORITY:5
UID:wscms192953-hochschwarz-0bcd8cd1d351cea3fb74e3bf447da139
URL:https://www.spd-hochschwarzwald.de/calendar192953.ics
END:VEVENT
END:VCALENDAR